BEGIN:VCALENDAR
VERSION:2.0
PRODID:-//https://www.gemeindehaus-oberwinter.de///NONSGML kigkonsult.se iCalcreator 2.10.15//
METHOD:PUBLISH
BEGIN:VEVENT
UID:20260425T133347CEST-1195T0Wuue@https://www.gemeindehaus-oberwinter.de/
DTSTAMP:20260425T113347Z
DESCRIPTION:Der Posaunenchor Oberwinter probt Dienstags von 20:00 Uhr bis 2
 1:00 Uhr im Saal des Gemeindehauses. https://www.gemeindehaus-oberwinter.d
 e/gemeindehaus-oberwinter-raeume/meditationsraum/event/391-probe-posaunenc
 hor-oberwinter
DTSTART:20240723T173000Z
DTEND:20240723T190000Z
LOCATION:Gemeindehaus Oberwinter - Meditationsraum (Hauptstraße 75)
SUMMARY:Probe Posaunenchor Oberwinter
URL:https://www.gemeindehaus-oberwinter.de/gemeindehaus-oberwinter-raeume/m
 editationsraum/event/391-probe-posaunenchor-oberwinter
END:VEVENT
END:VCALENDAR
